BEGIN:VCALENDAR
VERSION:2.0
PRODID:-//KA Bushido - ECPv6.15.20//NONSGML v1.0//EN
CALSCALE:GREGORIAN
METHOD:PUBLISH
X-WR-CALNAME:KA Bushido
X-ORIGINAL-URL:https://www.karateakademijabushido.com
X-WR-CALDESC:Events for KA Bushido
REFRESH-INTERVAL;VALUE=DURATION:PT1H
X-Robots-Tag:noindex
X-PUBLISHED-TTL:PT1H
BEGIN:VTIMEZONE
TZID:Europe/Belgrade
BEGIN:DAYLIGHT
TZOFFSETFROM:+0100
TZOFFSETTO:+0200
TZNAME:CEST
DTSTART:20240331T010000
END:DAYLIGHT
BEGIN:STANDARD
TZOFFSETFROM:+0200
TZOFFSETTO:+0100
TZNAME:CET
DTSTART:20241027T010000
END:STANDARD
BEGIN:DAYLIGHT
TZOFFSETFROM:+0100
TZOFFSETTO:+0200
TZNAME:CEST
DTSTART:20250330T010000
END:DAYLIGHT
BEGIN:STANDARD
TZOFFSETFROM:+0200
TZOFFSETTO:+0100
TZNAME:CET
DTSTART:20251026T010000
END:STANDARD
BEGIN:DAYLIGHT
TZOFFSETFROM:+0100
TZOFFSETTO:+0200
TZNAME:CEST
DTSTART:20260329T010000
END:DAYLIGHT
BEGIN:STANDARD
TZOFFSETFROM:+0200
TZOFFSETTO:+0100
TZNAME:CET
DTSTART:20261025T010000
END:STANDARD
END:VTIMEZONE
BEGIN:VEVENT
DTSTART;VALUE=DATE:20250912
DTEND;VALUE=DATE:20250915
DTSTAMP:20260423T072705
CREATED:20250712T184345Z
LAST-MODIFIED:20250819T225114Z
UID:7037-1757635200-1757894399@www.karateakademijabushido.com
SUMMARY:XXXI Mediterranean Karate Championships Guadalajara 2025
DESCRIPTION:Od 12. do 14. septembra u Gvadalahari će se održati XXXI Mediteranske igre. Takmičenje će biti u konkurenciji kadeta\, juniora i seniora. Na ovim Mediteranskim igrama biće održano i takmičenje u katama na pesku. Aleksandar Boškov predstavljaće našu akademiju u konkurenciji kata kod seniora.
URL:https://www.karateakademijabushido.com/event/xxxi-mediterranean-karate-championships-guadalajara-2025/
LOCATION:Palacio Multiusos de Guadalajara\, Av. de El Vado\, 13\, Guadalajara\, 19005\, Spain
CATEGORIES:Karate,Takmičenja
ATTACH;FMTTYPE=image/jpeg:https://www.karateakademijabushido.com/wp-content/uploads/2025/07/502265355_18503565559026284_2257310188065936834_n-820x1024-1.jpg
END:VEVENT
END:VCALENDAR