BEGIN:VCALENDAR
VERSION:2.0
PRODID:-//KA Bushido - ECPv6.15.20//NONSGML v1.0//EN
CALSCALE:GREGORIAN
METHOD:PUBLISH
X-WR-CALNAME:KA Bushido
X-ORIGINAL-URL:https://www.karateakademijabushido.com
X-WR-CALDESC:Events for KA Bushido
REFRESH-INTERVAL;VALUE=DURATION:PT1H
X-Robots-Tag:noindex
X-PUBLISHED-TTL:PT1H
BEGIN:VTIMEZONE
TZID:Europe/Belgrade
BEGIN:DAYLIGHT
TZOFFSETFROM:+0100
TZOFFSETTO:+0200
TZNAME:CEST
DTSTART:20240331T010000
END:DAYLIGHT
BEGIN:STANDARD
TZOFFSETFROM:+0200
TZOFFSETTO:+0100
TZNAME:CET
DTSTART:20241027T010000
END:STANDARD
BEGIN:DAYLIGHT
TZOFFSETFROM:+0100
TZOFFSETTO:+0200
TZNAME:CEST
DTSTART:20250330T010000
END:DAYLIGHT
BEGIN:STANDARD
TZOFFSETFROM:+0200
TZOFFSETTO:+0100
TZNAME:CET
DTSTART:20251026T010000
END:STANDARD
BEGIN:DAYLIGHT
TZOFFSETFROM:+0100
TZOFFSETTO:+0200
TZNAME:CEST
DTSTART:20260329T010000
END:DAYLIGHT
BEGIN:STANDARD
TZOFFSETFROM:+0200
TZOFFSETTO:+0100
TZNAME:CET
DTSTART:20261025T010000
END:STANDARD
END:VTIMEZONE
BEGIN:VEVENT
DTSTART;VALUE=DATE:20250530
DTEND;VALUE=DATE:20250602
DTSTAMP:20260423T121709
CREATED:20250530T222022Z
LAST-MODIFIED:20250530T223106Z
UID:6099-1748563200-1748822399@www.karateakademijabushido.com
SUMMARY:Karate 1 Premier League - Rabat 2025
DESCRIPTION:Od 30. maja do 1. juna 2025. godine u Rabatu će se održati Premijer liga kup (Karate 1 Premiere League). U našoj Akademiji još uvek nemamo seniore koji ispunjavaju uslove da mogu da se takmiče.
URL:https://www.karateakademijabushido.com/event/karate-1-premier-league-rabat-2025-2/
LOCATION:Multi-purpose Stadiums Prince Moulay Abdellah\, El Massira C.Y.M.\, Rabat\, 10000\, Morocco
CATEGORIES:Karate,Takmičenja
ATTACH;FMTTYPE=image/jpeg:https://www.karateakademijabushido.com/wp-content/uploads/2025/05/banner_1010.jpg
ORGANIZER;CN="WKF":MAILTO:wkf@wkf.net
END:VEVENT
END:VCALENDAR