BEGIN:VCALENDAR
VERSION:2.0
PRODID:-//KA Bushido - ECPv6.15.20//NONSGML v1.0//EN
CALSCALE:GREGORIAN
METHOD:PUBLISH
X-ORIGINAL-URL:https://www.karateakademijabushido.com
X-WR-CALDESC:Events for KA Bushido
REFRESH-INTERVAL;VALUE=DURATION:PT1H
X-Robots-Tag:noindex
X-PUBLISHED-TTL:PT1H
BEGIN:VTIMEZONE
TZID:Europe/Belgrade
BEGIN:DAYLIGHT
TZOFFSETFROM:+0100
TZOFFSETTO:+0200
TZNAME:CEST
DTSTART:20250330T010000
END:DAYLIGHT
BEGIN:STANDARD
TZOFFSETFROM:+0200
TZOFFSETTO:+0100
TZNAME:CET
DTSTART:20251026T010000
END:STANDARD
BEGIN:DAYLIGHT
TZOFFSETFROM:+0100
TZOFFSETTO:+0200
TZNAME:CEST
DTSTART:20260329T010000
END:DAYLIGHT
BEGIN:STANDARD
TZOFFSETFROM:+0200
TZOFFSETTO:+0100
TZNAME:CET
DTSTART:20261025T010000
END:STANDARD
BEGIN:DAYLIGHT
TZOFFSETFROM:+0100
TZOFFSETTO:+0200
TZNAME:CEST
DTSTART:20270328T010000
END:DAYLIGHT
BEGIN:STANDARD
TZOFFSETFROM:+0200
TZOFFSETTO:+0100
TZNAME:CET
DTSTART:20271031T010000
END:STANDARD
END:VTIMEZONE
BEGIN:VEVENT
DTSTART;VALUE=DATE:20260328
DTEND;VALUE=DATE:20260330
DTSTAMP:20260422T201115
CREATED:20260317T153710Z
LAST-MODIFIED:20260317T153710Z
UID:8426-1774656000-1774828799@www.karateakademijabushido.com
SUMMARY:55. ZLATNI POJAS ČAČKA
DESCRIPTION:Za vikend\, 28. i 29. marta 2026. godine\, u Sportskoj dvorani “Mladost” u Atenici\, Čačak\, održaće se 55. međunarodni turnir Zlatni pojas Čačka. \n 
URL:https://www.karateakademijabushido.com/event/55-zlatni-pojas-cacka/
LOCATION:Sportska dvorana “Mladost” Atenica\, Čačak\, Braće Petronijević\, Atenica\, 32104\, Serbia
CATEGORIES:Takmičenja
ATTACH;FMTTYPE=image/jpeg:https://www.karateakademijabushido.com/wp-content/uploads/2026/03/Untitled-1-1.jpg
ORGANIZER;CN="Karate Federacija Srbije":MAILTO:office1@karateserbia.org
END:VEVENT
END:VCALENDAR