BEGIN:VCALENDAR
VERSION:2.0
PRODID:-//KA Bushido - ECPv6.15.20//NONSGML v1.0//EN
CALSCALE:GREGORIAN
METHOD:PUBLISH
X-ORIGINAL-URL:https://www.karateakademijabushido.com
X-WR-CALDESC:Events for KA Bushido
REFRESH-INTERVAL;VALUE=DURATION:PT1H
X-Robots-Tag:noindex
X-PUBLISHED-TTL:PT1H
BEGIN:VTIMEZONE
TZID:Europe/Belgrade
BEGIN:DAYLIGHT
TZOFFSETFROM:+0100
TZOFFSETTO:+0200
TZNAME:CEST
DTSTART:20250330T010000
END:DAYLIGHT
BEGIN:STANDARD
TZOFFSETFROM:+0200
TZOFFSETTO:+0100
TZNAME:CET
DTSTART:20251026T010000
END:STANDARD
BEGIN:DAYLIGHT
TZOFFSETFROM:+0100
TZOFFSETTO:+0200
TZNAME:CEST
DTSTART:20260329T010000
END:DAYLIGHT
BEGIN:STANDARD
TZOFFSETFROM:+0200
TZOFFSETTO:+0100
TZNAME:CET
DTSTART:20261025T010000
END:STANDARD
BEGIN:DAYLIGHT
TZOFFSETFROM:+0100
TZOFFSETTO:+0200
TZNAME:CEST
DTSTART:20270328T010000
END:DAYLIGHT
BEGIN:STANDARD
TZOFFSETFROM:+0200
TZOFFSETTO:+0100
TZNAME:CET
DTSTART:20271031T010000
END:STANDARD
END:VTIMEZONE
BEGIN:VEVENT
DTSTART;VALUE=DATE:20260517
DTEND;VALUE=DATE:20260518
DTSTAMP:20260422T235843
CREATED:20260404T174100Z
LAST-MODIFIED:20260404T174245Z
UID:8657-1778976000-1779062399@www.karateakademijabushido.com
SUMMARY:DUNAV KUP - TROFEJ SRBIJE / DANUBE CUP - TROPHY OF SERBIA 2026
DESCRIPTION:Međunarodni karate turnir DUNAV KUP – TROFEJ SRBIJE / DANUBE CUP – TROPHY OF SERBIA 2026 održava se 17. maja 2026. godine po 19. put u Sportskoj hali “Slana Bara” u Novom Sadu. \nViše informacija na sajtu KSV.
URL:https://www.karateakademijabushido.com/event/dunav-kup-trofej-srbije-danube-cup-trophy-of-serbia-2026/
LOCATION:Sportska hala “Slana Bara” \, Novi Sad\, Sentandrejski put 106b\, Novi Sad\, 21000\, Serbia
CATEGORIES:Karate,Takmičenja
ATTACH;FMTTYPE=image/jpeg:https://www.karateakademijabushido.com/wp-content/uploads/2026/04/Plakat-Dunav-Kup-2026.jpg
ORGANIZER;CN="Karate savez Vojvodine":MAILTO:karatesavezvojvodine@gmail.com
END:VEVENT
END:VCALENDAR